BEGIN:VCALENDAR
VERSION:2.0
PRODID:-//hacksw/handcal//NONSGML v1.0//EN
CALSCALE:GREGORIAN
X-WR-TIMEZONE:Europe/Vienna
BEGIN:VEVENT
DESCRIPTION:K‑POP ZABAVA v Planetu Lollipop – zabava\, ki je otroci ne smejo zamuditi!
DTSTART:20260508T170000
DTEND:20260508T200000
URL;VALUE=URI:https://www.aleja.si/si/events/k-pop-zabava-v-planetu-lollipop-zabava-ki-je-otroci-ne-smejo-zamuditi/2026-05-08
SUMMARY:K‑POP ZABAVA v Planetu Lollipop – zabava\, ki je otroci ne smejo zamuditi!
DTSTAMP:20260425T140652
UID:69ecca7c0ef73
END:VEVENT
END:VCALENDAR